BEGIN:VCALENDAR
VERSION:2.0
PRODID:-//Quilters By The Sea - ECPv6.15.20//NONSGML v1.0//EN
CALSCALE:GREGORIAN
METHOD:PUBLISH
X-WR-CALNAME:Quilters By The Sea
X-ORIGINAL-URL:https://quiltersbythesea.com
X-WR-CALDESC:Events for Quilters By The Sea
REFRESH-INTERVAL;VALUE=DURATION:PT1H
X-Robots-Tag:noindex
X-PUBLISHED-TTL:PT1H
BEGIN:VTIMEZONE
TZID:America/Los_Angeles
BEGIN:DAYLIGHT
TZOFFSETFROM:-0800
TZOFFSETTO:-0700
TZNAME:PDT
DTSTART:20240310T100000
END:DAYLIGHT
BEGIN:STANDARD
TZOFFSETFROM:-0700
TZOFFSETTO:-0800
TZNAME:PST
DTSTART:20241103T090000
END:STANDARD
BEGIN:DAYLIGHT
TZOFFSETFROM:-0800
TZOFFSETTO:-0700
TZNAME:PDT
DTSTART:20250309T100000
END:DAYLIGHT
BEGIN:STANDARD
TZOFFSETFROM:-0700
TZOFFSETTO:-0800
TZNAME:PST
DTSTART:20251102T090000
END:STANDARD
BEGIN:DAYLIGHT
TZOFFSETFROM:-0800
TZOFFSETTO:-0700
TZNAME:PDT
DTSTART:20260308T100000
END:DAYLIGHT
BEGIN:STANDARD
TZOFFSETFROM:-0700
TZOFFSETTO:-0800
TZNAME:PST
DTSTART:20261101T090000
END:STANDARD
END:VTIMEZONE
BEGIN:VEVENT
DTSTART;TZID=America/Los_Angeles:20251230T183000
DTEND;TZID=America/Los_Angeles:20251230T203000
DTSTAMP:20260423T144718
CREATED:20251226T233412Z
LAST-MODIFIED:20251226T233435Z
UID:3015-1767119400-1767126600@quiltersbythesea.com
SUMMARY:Board Meeting
DESCRIPTION:
URL:https://quiltersbythesea.com/event/board-meeting/
LOCATION:California
CATEGORIES:Board Meeting
END:VEVENT
BEGIN:VEVENT
DTSTART;TZID=America/Los_Angeles:20251211T190000
DTEND;TZID=America/Los_Angeles:20251211T210000
DTSTAMP:20260423T144718
CREATED:20251201T203148Z
LAST-MODIFIED:20251202T010806Z
UID:2947-1765479600-1765486800@quiltersbythesea.com
SUMMARY:General Meeting
DESCRIPTION:General Meetings are generally held on the 2nd Thursday of every month. Exceptions are posted online.\nDoors open at 6:15 p.m. and the meeting starts at 7 p.m. \nVisitors may attend any meeting by paying $5.
URL:https://quiltersbythesea.com/event/general-meeting-4/
LOCATION:Arbor Road Church\, 5336 E. Arbor Rd\, Long Beach\, California\, 90808\, United States
CATEGORIES:General Meeting
ATTACH;FMTTYPE=image/jpeg:https://quiltersbythesea.com/wp-content/uploads/2021/02/sailboat_block.jpg
END:VEVENT
END:VCALENDAR