BEGIN:VCALENDAR
VERSION:2.0
PRODID:-//Quilters By The Sea - ECPv6.15.20//NONSGML v1.0//EN
CALSCALE:GREGORIAN
METHOD:PUBLISH
X-WR-CALNAME:Quilters By The Sea
X-ORIGINAL-URL:https://quiltersbythesea.com
X-WR-CALDESC:Events for Quilters By The Sea
REFRESH-INTERVAL;VALUE=DURATION:PT1H
X-Robots-Tag:noindex
X-PUBLISHED-TTL:PT1H
BEGIN:VTIMEZONE
TZID:America/Los_Angeles
BEGIN:DAYLIGHT
TZOFFSETFROM:-0800
TZOFFSETTO:-0700
TZNAME:PDT
DTSTART:20240310T100000
END:DAYLIGHT
BEGIN:STANDARD
TZOFFSETFROM:-0700
TZOFFSETTO:-0800
TZNAME:PST
DTSTART:20241103T090000
END:STANDARD
BEGIN:DAYLIGHT
TZOFFSETFROM:-0800
TZOFFSETTO:-0700
TZNAME:PDT
DTSTART:20250309T100000
END:DAYLIGHT
BEGIN:STANDARD
TZOFFSETFROM:-0700
TZOFFSETTO:-0800
TZNAME:PST
DTSTART:20251102T090000
END:STANDARD
BEGIN:DAYLIGHT
TZOFFSETFROM:-0800
TZOFFSETTO:-0700
TZNAME:PDT
DTSTART:20260308T100000
END:DAYLIGHT
BEGIN:STANDARD
TZOFFSETFROM:-0700
TZOFFSETTO:-0800
TZNAME:PST
DTSTART:20261101T090000
END:STANDARD
BEGIN:DAYLIGHT
TZOFFSETFROM:-0800
TZOFFSETTO:-0700
TZNAME:PDT
DTSTART:20270314T100000
END:DAYLIGHT
BEGIN:STANDARD
TZOFFSETFROM:-0700
TZOFFSETTO:-0800
TZNAME:PST
DTSTART:20271107T090000
END:STANDARD
END:VTIMEZONE
BEGIN:VEVENT
DTSTART;TZID=America/Los_Angeles:20260418T090000
DTEND;TZID=America/Los_Angeles:20260418T153000
DTSTAMP:20260423T130707
CREATED:20260109T231411Z
LAST-MODIFIED:20260415T230516Z
UID:3066-1776502800-1776526200@quiltersbythesea.com
SUMMARY:April Workshop - Open Sew
DESCRIPTION:No charge. Just bring your machine and a new or your latest project.
URL:https://quiltersbythesea.com/event/april-workshop-making-a-quilted-coat/
LOCATION:Arbor Road Church\, 5336 E. Arbor Rd\, Long Beach\, California\, 90808\, United States
CATEGORIES:Workshop
ATTACH;FMTTYPE=image/png:https://quiltersbythesea.com/wp-content/uploads/2026/03/image.png
END:VEVENT
BEGIN:VEVENT
DTSTART;TZID=America/Los_Angeles:20260416T190000
DTEND;TZID=America/Los_Angeles:20260416T210000
DTSTAMP:20260423T130707
CREATED:20251202T001846Z
LAST-MODIFIED:20251202T001907Z
UID:2956-1776366000-1776373200@quiltersbythesea.com
SUMMARY:General Meeting
DESCRIPTION:General Meetings are generally held on the 2nd Thursday of every month. Exceptions are\nposted online. \nDoors open at 6:15 p.m. and the meeting starts at 7 p.m. \nVisitors may attend any meeting by paying $5.
URL:https://quiltersbythesea.com/event/general-meeting-5/
LOCATION:Arbor Road Church\, 5336 E. Arbor Rd\, Long Beach\, California\, 90808\, United States
CATEGORIES:General Meeting
ATTACH;FMTTYPE=image/jpeg:https://quiltersbythesea.com/wp-content/uploads/2021/02/sailboat_block.jpg
END:VEVENT
BEGIN:VEVENT
DTSTART;TZID=America/Los_Angeles:20260411T090000
DTEND;TZID=America/Los_Angeles:20260411T140000
DTSTAMP:20260423T130707
CREATED:20260319T224710Z
LAST-MODIFIED:20260320T205308Z
UID:3133-1775898000-1775916000@quiltersbythesea.com
SUMMARY:Sew So Saturday
DESCRIPTION:Sew So Saturdays are at Carollynn’s home in “The Garage” and are subject to change. \n9 am to whenever. \nCarollynn’s personal information is in the guild roster.
URL:https://quiltersbythesea.com/event/sew-so-saturday-2/
LOCATION:Carollynn’s\, Lakewood\, CA\, 90712\, United States
CATEGORIES:Sew So Saturday
END:VEVENT
BEGIN:VEVENT
DTSTART;TZID=America/Los_Angeles:20260407T183000
DTEND;TZID=America/Los_Angeles:20260407T203000
DTSTAMP:20260423T130707
CREATED:20260319T212102Z
LAST-MODIFIED:20260319T213115Z
UID:3123-1775586600-1775593800@quiltersbythesea.com
SUMMARY:Board Meeting
DESCRIPTION:Board Meetings are at Carollynn’s home or via Zoom\, starting at 6:30.
URL:https://quiltersbythesea.com/event/board-meeting-2/
LOCATION:CA
CATEGORIES:Board Meeting
END:VEVENT
BEGIN:VEVENT
DTSTART;TZID=America/Los_Angeles:20260404T090000
DTEND;TZID=America/Los_Angeles:20260404T140000
DTSTAMP:20260423T130707
CREATED:20260319T224611Z
LAST-MODIFIED:20260319T224611Z
UID:3131-1775293200-1775311200@quiltersbythesea.com
SUMMARY:Sew So Saturday
DESCRIPTION:Sew So Saturdays are at Carollynn’s home in “The Garage” and are subject to change. \n9 am to whenever. \nCarollynn’s personal information is in the guild roster.
URL:https://quiltersbythesea.com/event/sew-so-saturday/
LOCATION:CA
CATEGORIES:Sew So Saturday
END:VEVENT
BEGIN:VEVENT
DTSTART;TZID=America/Los_Angeles:20260314T090000
DTEND;TZID=America/Los_Angeles:20260314T153000
DTSTAMP:20260423T130707
CREATED:20260109T230144Z
LAST-MODIFIED:20260109T230144Z
UID:3064-1773478800-1773502200@quiltersbythesea.com
SUMMARY:March Workshop - Fabric Postcards
DESCRIPTION:Register Online \nRegister by mail
URL:https://quiltersbythesea.com/event/march-workshop-fabric-postcards/
LOCATION:Arbor Road Church\, 5336 E. Arbor Rd\, Long Beach\, California\, 90808\, United States
CATEGORIES:Workshop
ATTACH;FMTTYPE=image/jpeg:https://quiltersbythesea.com/wp-content/uploads/2024/01/postcards-scaled.jpeg
END:VEVENT
BEGIN:VEVENT
DTSTART;TZID=America/Los_Angeles:20260312T190000
DTEND;TZID=America/Los_Angeles:20260312T210000
DTSTAMP:20260423T130707
CREATED:20251201T201612Z
LAST-MODIFIED:20251201T220418Z
UID:2945-1773342000-1773349200@quiltersbythesea.com
SUMMARY:General Meeting
DESCRIPTION:General Meetings are generally held on the 2nd Thursday of every month. Exceptions are posted online.\nDoors open at 6:15 p.m. and the meeting starts at 7 p.m. \nVisitors may attend any meeting by paying $5.
URL:https://quiltersbythesea.com/event/general-meeting-3/
LOCATION:Arbor Road Church\, 5336 E. Arbor Rd\, Long Beach\, California\, 90808\, United States
CATEGORIES:General Meeting
ATTACH;FMTTYPE=image/jpeg:https://quiltersbythesea.com/wp-content/uploads/2021/02/sailboat_block.jpg
END:VEVENT
BEGIN:VEVENT
DTSTART;TZID=America/Los_Angeles:20260214T090000
DTEND;TZID=America/Los_Angeles:20260214T153000
DTSTAMP:20260423T130707
CREATED:20260109T223759Z
LAST-MODIFIED:20260109T223831Z
UID:3057-1771059600-1771083000@quiltersbythesea.com
SUMMARY:February Workshop - Open Sew
DESCRIPTION:Member-to-member: quilting skills\, French seams\, QAYG\, binding\, Open Sew. \nThere is no charge for this workshop.
URL:https://quiltersbythesea.com/event/workshop-open-sew/
LOCATION:Arbor Road Church\, 5336 E. Arbor Rd\, Long Beach\, California\, 90808\, United States
CATEGORIES:Workshop
ATTACH;FMTTYPE=image/jpeg:https://quiltersbythesea.com/wp-content/uploads/2026/01/close-up-of-hands-using-a-sewing-machine-depicting-craftsmanship-and-textiles-indoors.-2973392-scaled.jpg
END:VEVENT
BEGIN:VEVENT
DTSTART;TZID=America/Los_Angeles:20260212T190000
DTEND;TZID=America/Los_Angeles:20260212T210000
DTSTAMP:20260423T130707
CREATED:20251201T201329Z
LAST-MODIFIED:20251202T001418Z
UID:2943-1770922800-1770930000@quiltersbythesea.com
SUMMARY:General Meeting
DESCRIPTION:General Meetings are generally held on the 2nd Thursday of every month. Exceptions are posted online.\nDoors open at 6:15 p.m. and the meeting starts at 7 p.m. \nVisitors may attend any meeting by paying $5.
URL:https://quiltersbythesea.com/event/general-meeting-2/
LOCATION:Arbor Road Church\, 5336 E. Arbor Rd\, Long Beach\, California\, 90808\, United States
CATEGORIES:General Meeting
ATTACH;FMTTYPE=image/jpeg:https://quiltersbythesea.com/wp-content/uploads/2021/02/sailboat_block.jpg
END:VEVENT
BEGIN:VEVENT
DTSTART;VALUE=DATE:20260123
DTEND;VALUE=DATE:20260124
DTSTAMP:20260423T130707
CREATED:20260109T225124Z
LAST-MODIFIED:20260109T225124Z
UID:3061-1769126400-1769212799@quiltersbythesea.com
SUMMARY:Road 2 California Bus Trip
DESCRIPTION:We have a bus through Supervisor Hahn’s office to take QBS members and their guests to Road 2 California on Friday\, January 23rd. \nBring 2 fat quarters or larger\, or $2.00 to play BINGO on the bus.
URL:https://quiltersbythesea.com/event/road-2-california-bus-trip/
LOCATION:CA
CATEGORIES:Special Event
ATTACH;FMTTYPE=image/jpeg:https://quiltersbythesea.com/wp-content/uploads/2022/06/Untitled.jpg
ORGANIZER;CN="Samantha Reams":MAILTO:in roster
END:VEVENT
BEGIN:VEVENT
DTSTART;TZID=America/Los_Angeles:20260110T090000
DTEND;TZID=America/Los_Angeles:20260110T153000
DTSTAMP:20260423T130707
CREATED:20251205T001223Z
LAST-MODIFIED:20251231T022320Z
UID:2991-1768035600-1768059000@quiltersbythesea.com
SUMMARY:January Workshop - Bargello
DESCRIPTION:Attached is the Pre-workshop Instruction. The full pattern will be provided at the workshop. \nBargello_cutting_instRegister Online \nbargello_blocking_template\nRegister Online \nRegister by Mail
URL:https://quiltersbythesea.com/event/january-workshop-bargello/
LOCATION:Arbor Road Church\, 5336 E. Arbor Rd\, Long Beach\, California\, 90808\, United States
CATEGORIES:Workshop
END:VEVENT
BEGIN:VEVENT
DTSTART;TZID=America/Los_Angeles:20260108T190000
DTEND;TZID=America/Los_Angeles:20260108T210000
DTSTAMP:20260423T130707
CREATED:20251201T200449Z
LAST-MODIFIED:20251202T001516Z
UID:2941-1767898800-1767906000@quiltersbythesea.com
SUMMARY:General Meeting
DESCRIPTION:General Meetings are generally held on the 2nd Thursday of every month. Exceptions are posted online.\nDoors open at 6:15 p.m. and the meeting starts at 7 p.m. \nVisitors may attend any meeting by paying $5.
URL:https://quiltersbythesea.com/event/general-meeting/
LOCATION:Arbor Road Church\, 5336 E. Arbor Rd\, Long Beach\, California\, 90808\, United States
CATEGORIES:General Meeting
ATTACH;FMTTYPE=image/jpeg:https://quiltersbythesea.com/wp-content/uploads/2021/02/sailboat_block.jpg
END:VEVENT
BEGIN:VEVENT
DTSTART;TZID=America/Los_Angeles:20251230T183000
DTEND;TZID=America/Los_Angeles:20251230T203000
DTSTAMP:20260423T130707
CREATED:20251226T233412Z
LAST-MODIFIED:20251226T233435Z
UID:3015-1767119400-1767126600@quiltersbythesea.com
SUMMARY:Board Meeting
DESCRIPTION:
URL:https://quiltersbythesea.com/event/board-meeting/
LOCATION:CA
CATEGORIES:Board Meeting
END:VEVENT
BEGIN:VEVENT
DTSTART;TZID=America/Los_Angeles:20251211T190000
DTEND;TZID=America/Los_Angeles:20251211T210000
DTSTAMP:20260423T130707
CREATED:20251201T203148Z
LAST-MODIFIED:20251202T010806Z
UID:2947-1765479600-1765486800@quiltersbythesea.com
SUMMARY:General Meeting
DESCRIPTION:General Meetings are generally held on the 2nd Thursday of every month. Exceptions are posted online.\nDoors open at 6:15 p.m. and the meeting starts at 7 p.m. \nVisitors may attend any meeting by paying $5.
URL:https://quiltersbythesea.com/event/general-meeting-4/
LOCATION:Arbor Road Church\, 5336 E. Arbor Rd\, Long Beach\, California\, 90808\, United States
CATEGORIES:General Meeting
ATTACH;FMTTYPE=image/jpeg:https://quiltersbythesea.com/wp-content/uploads/2021/02/sailboat_block.jpg
END:VEVENT
END:VCALENDAR